BEGIN:VCALENDAR
VERSION:2.0
PRODID:-//Open Cloud Institute - ECPv6.15.20//NONSGML v1.0//EN
CALSCALE:GREGORIAN
METHOD:PUBLISH
X-WR-CALNAME:Open Cloud Institute
X-ORIGINAL-URL:https://opencloud.utsa.edu
X-WR-CALDESC:Events for Open Cloud Institute
REFRESH-INTERVAL;VALUE=DURATION:PT1H
X-Robots-Tag:noindex
X-PUBLISHED-TTL:PT1H
BEGIN:VTIMEZONE
TZID:America/Chicago
BEGIN:DAYLIGHT
TZOFFSETFROM:-0600
TZOFFSETTO:-0500
TZNAME:CDT
DTSTART:20230312T080000
END:DAYLIGHT
BEGIN:STANDARD
TZOFFSETFROM:-0500
TZOFFSETTO:-0600
TZNAME:CST
DTSTART:20231105T070000
END:STANDARD
BEGIN:DAYLIGHT
TZOFFSETFROM:-0600
TZOFFSETTO:-0500
TZNAME:CDT
DTSTART:20240310T080000
END:DAYLIGHT
BEGIN:STANDARD
TZOFFSETFROM:-0500
TZOFFSETTO:-0600
TZNAME:CST
DTSTART:20241103T070000
END:STANDARD
BEGIN:DAYLIGHT
TZOFFSETFROM:-0600
TZOFFSETTO:-0500
TZNAME:CDT
DTSTART:20250309T080000
END:DAYLIGHT
BEGIN:STANDARD
TZOFFSETFROM:-0500
TZOFFSETTO:-0600
TZNAME:CST
DTSTART:20251102T070000
END:STANDARD
END:VTIMEZONE
BEGIN:VEVENT
DTSTART;TZID=America/Chicago:20240718T140000
DTEND;TZID=America/Chicago:20240718T150000
DTSTAMP:20260420T152920
CREATED:20240628T200253Z
LAST-MODIFIED:20240628T200253Z
UID:5649-1721311200-1721314800@opencloud.utsa.edu
SUMMARY:Seminar by Dr. Florent Bruguier
DESCRIPTION:Open Cloud Institute is excited to welcome Dr. Florent Bruguier of the University of Montpellier as guest speaker at our Seminar next month! \nVisiting us from France\, Dr. Bruguier will be at San Pedro 1 to discuss the growing architecture security projects at Laboratory of Computer Science\, Robotics and Microelectronics of Montpellier. \nRegister now at: \nhttps://utsa.az1.qualtrics.com/jfe/form/SV_3Vojn29i7H4oTUq \nThis free seminar is available to current UTSA students\, faculty\, and staff! Please note\, space is limited. We look forward to your attendance!
URL:https://opencloud.utsa.edu/event/seminar-by-dr-florent-bruguier/
LOCATION:TX
END:VEVENT
END:VCALENDAR